BEGIN:VCALENDAR
VERSION:2.0
PRODID:-//ChamberMaster//Event Calendar 2.0//EN
METHOD:PUBLISH
X-PUBLISHED-TTL:P3D
REFRESH-INTERVAL:P3D
CALSCALE:GREGORIAN
BEGIN:VEVENT
DTSTART:20230623T180000Z
DTEND:20230624T070000Z
X-MICROSOFT-CDO-ALLDAYEVENT:FALSE
SUMMARY:Summer Fun on the 101
DESCRIPTION:Leucadia 101 Mainstreet Association is pleased to announce its annual Summer Fun on the 101 music festival June 24 at the Leucadia Roadside Park\, 860 N. Coast Highway 101\, from 11:00 am to 7 pm. There will be a Craft Beer Garden for Attendees 21+. The winning youth band from the Leucadia 101 Mainstreet Battle of the Bands will perform.\n\nThe money raised by the event will fund college scholarships for two local San Dieguito Academy graduating seniors pursuing musical studies.
X-ALT-DESC;FMTTYPE=text/html:<p>Leucadia 101 Mainstreet Association is pleased to announce its annual Summer Fun on the 101 music festival June 24 at the Leucadia Roadside Park\, 860 N. Coast Highway 101\, from 11:00 am to 7 pm. There will be a Craft Beer Garden for Attendees 21+. The winning youth band from the Leucadia 101 Mainstreet Battle of the Bands will perform.</p>\n\n<p>The money raised by the event will fund college scholarships for two local San Dieguito Academy graduating seniors pursuing musical studies.</p>\n\n<p>&nbsp\;</p>\n
LOCATION:Leucadia Roadside Park\, 860 N. Coast Highway 101
UID:e.1287.11790
SEQUENCE:3
DTSTAMP:20260422T031229Z
URL:https://local.encinitaschamber.com/events/details/summer-fun-on-the-101-06-23-2023-11790
END:VEVENT

END:VCALENDAR
