BEGIN:VCALENDAR
VERSION:2.0
PRODID:-//ChamberMaster//Event Calendar 2.0//EN
METHOD:PUBLISH
X-PUBLISHED-TTL:P3D
REFRESH-INTERVAL:P3D
CALSCALE:GREGORIAN
BEGIN:VEVENT
DTSTART:20191013T013000Z
DTEND:20191013T025000Z
X-MICROSOFT-CDO-ALLDAYEVENT:FALSE
SUMMARY:Movie in the Park - Disney's Dumbo
DESCRIPTION:Movie in the Park - Disney's Dumbo (2019) Saturday\, October 12\, 2019 @ 6:30 PM - 8:30 PM \n\n\n\nJoin us for the family friendly hit\, "Dumbo" \n\n\n\nMake an evening of it at the park before the sun sets\, then enjoy a night under the stars and a fun\, free family movie. Join us for the family friendly hit\, Disney's Dumbo (2019). \n\n	Bring your blankets and low-backed chairs. \n	Bring a picnic and drinks\n	Please NO glass containers \n\n\n\nStay tuned for movie dates and titles.
X-ALT-DESC;FMTTYPE=text/html:Movie in the Park - Disney&#39\;s Dumbo (2019) Saturday\, October 12\, 2019 @ 6:30 PM - 8:30 PM&nbsp\;<br />\n<br />\n<strong>Join us for the family friendly hit\, &quot\;Dumbo&quot\;</strong>&nbsp\;<br />\n<br />\nMake an evening of it at the park before the sun sets\, then enjoy a night under the stars and a fun\, free family movie. Join us for the family friendly hit\, Disney&#39\;s Dumbo (2019).&nbsp\;\n<ul>\n	<li>Bring your blankets and low-backed chairs.&nbsp\;</li>\n	<li>Bring a picnic and drinks</li>\n	<li>Please NO glass containers&nbsp\;</li>\n</ul>\n<br />\nStay tuned for movie dates and titles.
LOCATION:Cottonwood Creek Park 95 N Vulcan Ave\, Encinitas\, CA 92024
UID:e.1287.6456
SEQUENCE:3
DTSTAMP:20260425T201747Z
URL:https://local.encinitaschamber.com/events/details/movie-in-the-park-disney-s-dumbo-6456
END:VEVENT

END:VCALENDAR
