BEGIN:VCALENDAR
VERSION:2.0
PRODID:-//ChamberMaster//Event Calendar 2.0//EN
METHOD:PUBLISH
X-PUBLISHED-TTL:P3D
REFRESH-INTERVAL:P3D
CALSCALE:GREGORIAN
BEGIN:VEVENT
DTSTART:20180428T160000Z
DTEND:20180430T000000Z
X-MICROSOFT-CDO-ALLDAYEVENT:FALSE
SUMMARY:Encinitas Spring Street Fair (2 days)
DESCRIPTION:Can you believe it's already time for the Encinitas Street Fair?\n\nJoin us for fun in the sun for the Encinitas Spring Street Fair from 9am-5pm!\n\nWe will have over 300 vendors\, food\, music and a kid & pet friendly beer garden!\n\n\n\nThank you to our sponsors\, Scripps\, The Lumberyard\, Hansen's\, Stone Brewing\, Electra Bikes\, Palomar Water & EDCO!\n\n\n\nThere will be fun or the entire family!!!
X-ALT-DESC;FMTTYPE=text/html:<p><span style="text-align: justify\;"><span style="background-color: #ffffff\; letter-spacing: -0.24px\; font-size: 10pt\;"><span id="ox-9d55d65dca-m_4776332157935552560yui_3_16_0_ym19_1_1516385384205_23847"><span style="color: rgb(34\,34\,34)\; font-family: Arial\;">Can you believe it&#39\;s already time for the Encinitas Street Fair?<br />\nJoin us for fun in the sun for the Encinitas Spring Street Fair from 9am-5pm!<br />\nWe will have over 300 vendors\, food\, music and a kid &amp\; pet friendly beer garden!<br />\n<br />\nThank you to our sponsors\, Scripps\, The Lumberyard\, Hansen&#39\;s\, Stone Brewing\, Electra Bikes\, Palomar Water &amp\; EDCO!</span></span></span></span><br />\n<br />\n<strong>There will be fun or the entire family!!!</strong></p>\n&#8203\;
LOCATION:HWY 101 Encinitas from D street to J street (from the 7/11 Store to Hansen's Shop)
UID:e.1287.1897
SEQUENCE:3
DTSTAMP:20260421T033848Z
URL:https://local.encinitaschamber.com/events/details/encinitas-spring-street-fair-2-days-1897
END:VEVENT

END:VCALENDAR
