BEGIN:VCALENDAR
VERSION:2.0
PRODID:-//ChamberMaster//Event Calendar 2.0//EN
METHOD:PUBLISH
X-PUBLISHED-TTL:P3D
REFRESH-INTERVAL:P3D
CALSCALE:GREGORIAN
BEGIN:VEVENT
DTSTART:20191215T180000Z
DTEND:20191215T200000Z
X-MICROSOFT-CDO-ALLDAYEVENT:FALSE
SUMMARY:Encinitas Christmas Collective 2019
DESCRIPTION:The Christmas Collective is returning to North County!\n\nOn December 15\, 2019\, our incredible Christmas Concert is coming back to Encinitas! \n\n\n\nOur desire is to create an opportunity to not only bring together our collective resources to do good for others by providing tangible gifting opportunities for local families in need through our Giving Tree\, but also to receive and experience the gospel truths of Christmas as we celebrate the season together.\n\nWe hope you'll join us as we celebrate the hope and healing the Christmas season brings.\n\n\n\nThe Christmas Collective is a family-friendly event and we invite guests of all ages from 0-100 to join the concert and celebration! Special activity bags will be given to guests under 10 to keep little hands busy.\n\n\n\n*Free 0-4 year-old childcare available. Space is limited. Questions about childcare? Contact: http://KidsTeam@DIVEintoFLOOD.com\n\n\n\n\n\n\n\n\n\nBy: Flood Church - North County Campus\, Encinitas
X-ALT-DESC;FMTTYPE=text/html:<p style="margin: 0px\; padding: 0px\; color: rgb(111\, 114\, 135)\; font-family: &quot\;Neue Plak&quot\;\, -apple-system\, BlinkMacSystemFont\, Roboto\, &quot\;Helvetica Neue&quot\;\, Helvetica\, Tahoma\, Arial\, sans-serif\; font-size: 14.9333px\; letter-spacing: 0.5px\;"><span style="font-weight: 700\; padding-top: 0px\;">The Christmas Collective is returning to North County!</span></p>\n\n<p style="margin: 0px\; padding: 10px 0px 0px\; color: rgb(111\, 114\, 135)\; font-family: &quot\;Neue Plak&quot\;\, -apple-system\, BlinkMacSystemFont\, Roboto\, &quot\;Helvetica Neue&quot\;\, Helvetica\, Tahoma\, Arial\, sans-serif\; font-size: 14.9333px\; letter-spacing: 0.5px\;">On December 15\, 2019\, our incredible Christmas Concert is coming back to Encinitas!&nbsp\;<br />\n<br />\n<span style="padding-top: 0px\;">Our desire is to create an opportunity to not only bring together our collective resources to do good for others by providing tangible gifting opportunities for local families in need through our Giving Tree\, but also to receive and experience the gospel truths of Christmas as we celebrate the season together.</span></p>\n\n<p style="margin: 0px\; padding: 10px 0px 0px\; color: rgb(111\, 114\, 135)\; font-family: &quot\;Neue Plak&quot\;\, -apple-system\, BlinkMacSystemFont\, Roboto\, &quot\;Helvetica Neue&quot\;\, Helvetica\, Tahoma\, Arial\, sans-serif\; font-size: 14.9333px\; letter-spacing: 0.5px\;">We hope you&#39\;ll join us as we celebrate the hope and healing the Christmas season brings.<br />\n<br />\n<span style="color: rgb(111\, 114\, 135)\; font-family: &quot\;Neue Plak&quot\;\, -apple-system\, BlinkMacSystemFont\, Roboto\, &quot\;Helvetica Neue&quot\;\, Helvetica\, Tahoma\, Arial\, sans-serif\; font-size: 14.9333px\; letter-spacing: 0.5px\;">The Christmas Collective is a family-friendly event and we invite guests of all ages from 0-100 to join the concert and celebration! Special activity bags will be given to guests under 10 to keep little hands busy.</span><br />\n<br />\n*Free 0-4 year-old childcare available. Space is limited. Questions about childcare? Contact:&nbsp\;<strong><a href="http://KidsTeam@DIVEintoFLOOD.com"><span style="color:#0000FF\;">http://KidsTeam@DIVEintoFLOOD.com</span></a></strong></p>\n\n<p style="margin: 0px\; padding: 10px 0px 0px\; color: rgb(111\, 114\, 135)\; font-family: &quot\;Neue Plak&quot\;\, -apple-system\, BlinkMacSystemFont\, Roboto\, &quot\;Helvetica Neue&quot\;\, Helvetica\, Tahoma\, Arial\, sans-serif\; font-size: 14.9333px\; letter-spacing: 0.5px\;"><br />\n<br />\n<br />\n<br />\nBy:&nbsp\;Flood Church - North County Campus\, Encinitas</p>\n
LOCATION:View Map La Paloma Theatre
UID:e.1287.8703
SEQUENCE:3
DTSTAMP:20260425T203839Z
URL:https://local.encinitaschamber.com/events/details/encinitas-christmas-collective-2019-8703
END:VEVENT

END:VCALENDAR
