BEGIN:VCALENDAR
VERSION:2.0
PRODID:-//ChamberMaster//Event Calendar 2.0//EN
METHOD:PUBLISH
X-PUBLISHED-TTL:P3D
REFRESH-INTERVAL:P3D
CALSCALE:GREGORIAN
BEGIN:VEVENT
DTSTART:20260514T003000Z
DTEND:20260514T020000Z
X-MICROSOFT-CDO-ALLDAYEVENT:FALSE
SUMMARY:Chamber on Tap -
DESCRIPTION:Join us for a casual pint and great conversation at our Chamber on Tap\, held on the second Wednesday of every month. The location changes each month.
X-ALT-DESC;FMTTYPE=text/html:<span style="font-size:14px\;"><span style="font-family:arial\;">Join us for a casual pint and great conversation at our Chamber on Tap\, held on the second Wednesday of every month. The location changes each month.</span></span>
LOCATION:TBD
UID:e.1287.13611
SEQUENCE:3
DTSTAMP:20260420T221917Z
URL:https://local.encinitaschamber.com/events/details/chamber-on-tap-05-13-2026-13611
END:VEVENT

END:VCALENDAR
