BEGIN:VCALENDAR
VERSION:2.0
PRODID:-//ChamberMaster//Event Calendar 2.0//EN
METHOD:PUBLISH
X-PUBLISHED-TTL:P3D
REFRESH-INTERVAL:P3D
CALSCALE:GREGORIAN
BEGIN:VEVENT
DTSTART:20190602T010000Z
DTEND:20190602T040000Z
X-MICROSOFT-CDO-ALLDAYEVENT:FALSE
SUMMARY:Art Night Encinitas
DESCRIPTION:Enjoy an evening of visual art on Saturday\, June 1\, from 6:00-9:00 p.m.\, as Encinitas civic and local art galleries swing open their doors at Art Night Encinitas. The new event will celebrate the city's diverse visual art scene at participating locations and is free to the public. Enjoy live music and refreshments at several locations.\n\n\n\n"Art Night Encinitas" was conceived by the Commission for the Arts in 2018 as a way to bring focus to our civic art galleries and thriving visual art scene\," said Commission for the Arts Chair Collette Stefanko. In 2019\, 47 exhibits by local artists will be presented in the City's three civic art galleries along with a myriad of local artists at participating galleries.\n\n\n\nThe intent of the new program is to bring recognition to the City's civic art galleries\, local art galleries\, benefit artists through the sale of art\, while providing the public an opportunity to interact with artists and their art.\n\n\n\nShuttle Bus   -  It's free! \n\nTwo 24 passenger shuttle buses will transport attendees to and from all 7 art galleries throughout the evening.\n\n\n\nCatch a ride on one of the shuttle buses which will transport you to and from all locations. The public is encouraged to park at City Hall\, the Encinitas Community Center and the Encinitas Library to easily access the shuttle.\n\n\n\nThe intent of the new program is to bring recognition to the City's civic art galleries\, local art galleries\, benefit artists through the sale of art\, while providing the public an opportunity to interact with artists and their art.
X-ALT-DESC;FMTTYPE=text/html:Enjoy an evening of visual art on Saturday\, June 1\, from 6:00-9:00 p.m.\, as Encinitas civic and local art galleries swing open their doors at Art Night Encinitas. The new event will celebrate the city&rsquo\;s diverse visual art scene at participating locations and is free to the public. Enjoy live music and refreshments at several locations.<br />\n<br />\n<strong>&ldquo\;Art Night Encinitas&quot\;</strong> was conceived by the Commission for the Arts in 2018 as a way to bring focus to our civic art galleries and thriving visual art scene\,&rdquo\; said Commission for the Arts Chair Collette Stefanko. In 2019\, 47 exhibits by local artists will be presented in the City&#39\;s three civic art galleries along with a myriad of local artists at participating galleries.<br />\n<br />\nThe intent of the new program is to bring recognition to the City&rsquo\;s civic art galleries\, local art galleries\, benefit artists through the sale of art\, while providing the public an opportunity to interact with artists and their art.<br />\n<br />\n<strong>Shuttle Bus&nbsp\;&nbsp\; -&nbsp\; </strong><span style="color:#FF0000\;"><strong>It&#39\;s free!&nbsp\;</strong></span><br />\n<span style="color: rgb(76\,76\,76)\;">Two 24 passenger shuttle buses will transport attendees to and from all 7 art galleries throughout the evening.</span><br />\n<br />\nCatch a ride on one of the shuttle buses which will transport you to and from all locations. The public is encouraged to park at City Hall\, the Encinitas Community Center and the Encinitas Library to easily access the shuttle.<br />\n<br />\nThe intent of the new program is to bring recognition to the City&rsquo\;s civic art galleries\,&nbsp\;local art galleries\, benefit&nbsp\;artists through&nbsp\;the sale of art\, while&nbsp\;providing&nbsp\;the&nbsp\;public an opportunity to&nbsp\;interact with artists and their art.&nbsp\;
LOCATION:Various Participating Art Galleries\, Artists and Performers
UID:e.1287.5147
SEQUENCE:3
DTSTAMP:20260425T202735Z
URL:https://local.encinitaschamber.com/events/details/art-night-encinitas-5147
END:VEVENT

END:VCALENDAR
